BEGIN:VCALENDAR
VERSION:2.0
PRODID:-//eventon.com NONSGML v1.0//EN
CALSCALE:GREGORIAN
METHOD:PUBLISH
BEGIN:VEVENT
UID:69e5309d30940
DTSTAMP:20260419T194429Z
DTSTART:20251021T130000Z
DTEND:20251021T170000Z
LOCATION:
SUMMARY:Tuesday Outreach
DESCRIPTION:Tuesday Outreach\nhttps://carecutsknox.org/blog/events/tuesday-
 outreach-copy/
URL:https://carecutsknox.org/blog/events/tuesday-outreach-copy/
END:VEVENT
END:VCALENDAR